BEGIN:VCALENDAR
VERSION:2.0
PRODID:-//Scifest Africa - ECPv6.15.11//NONSGML v1.0//EN
CALSCALE:GREGORIAN
METHOD:PUBLISH
X-ORIGINAL-URL:https://www.scifest.org.za
X-WR-CALDESC:Events for Scifest Africa
REFRESH-INTERVAL;VALUE=DURATION:PT1H
X-Robots-Tag:noindex
X-PUBLISHED-TTL:PT1H
BEGIN:VTIMEZONE
TZID:Africa/Johannesburg
BEGIN:STANDARD
TZOFFSETFROM:+0200
TZOFFSETTO:+0200
TZNAME:SAST
DTSTART:20200101T000000
END:STANDARD
END:VTIMEZONE
BEGIN:VEVENT
DTSTART;TZID=Africa/Johannesburg:20220324T180000
DTEND;TZID=Africa/Johannesburg:20220324T190000
DTSTAMP:20260421T084221
CREATED:20220304T082356Z
LAST-MODIFIED:20220304T082356Z
UID:5071-1648144800-1648148400@www.scifest.org.za
SUMMARY:From Lab to Life: How Science Innovation Can Save Lives
DESCRIPTION:When science innovation speeds from lab to real life\, science can be a virtuous catalyst – saving lives\, creating new industries\, and empowering just transitions. What are some of the essential ingredients to be more than science that stays in the lab producing publications but little real-life impact. Or science that is successfully commercialized but neglects to balance improving the bottom line with improving lives everywhere. A talking tour from next-generation diagnostics to drones\, Artificial Intelligence and remote sensing to biomimicry.
URL:https://www.scifest.org.za/event/from-lab-to-life-how-science-innovation-can-save-lives/
LOCATION:Zoom Meeting
END:VEVENT
BEGIN:VEVENT
DTSTART;TZID=Africa/Johannesburg:20220204T150000
DTEND;TZID=Africa/Johannesburg:20220204T170000
DTSTAMP:20260421T084221
CREATED:20220124T144936Z
LAST-MODIFIED:20220124T144936Z
UID:4850-1643986800-1643994000@www.scifest.org.za
SUMMARY:Composting in a Bottle
DESCRIPTION:Micro-composting is a great science activity targeted at introducing environmental concepts in a stimulating way. It introduces environmental appreciation and promotes care for the natural environment. Fundamental concepts of turning waste into useable material\, chemical processes and soil enrichment are achieved. \nRequirements: 2 litre plastic bottle\, Sharp scissors/ knife\, garden soil\, fertiliser\, newspaper\, sand\, vegetables left overs\, grass clippings\, tape and water in a spray bottle. \nMs. Marsha Kalika: Chief Education Officer for Outreach
URL:https://www.scifest.org.za/event/composting-in-a-bottle/
LOCATION:Zoom Meeting
ORGANIZER;CN="Scifest Africa":MAILTO:info@scifest.org.za
END:VEVENT
BEGIN:VEVENT
DTSTART;TZID=Africa/Johannesburg:20220128T150000
DTEND;TZID=Africa/Johannesburg:20220128T170000
DTSTAMP:20260421T084221
CREATED:20220124T144738Z
LAST-MODIFIED:20220124T144738Z
UID:4848-1643382000-1643389200@www.scifest.org.za
SUMMARY:Homemade Plantable Seed Paper
DESCRIPTION:Do your part for the environment: Create your own eco-friendly seed paper out of recyclable pulp and seeds of your choice!!! Learners are exposed to the natural environment\, gardening and the concept of recycling . Seed paper is a creative way to reduce waste and beautify the environment. \nRequirements: old paper\, scissors\, cup\, large bowl\, warm water\, packet of seeds\, food colouring and glitter (optional)\, towel\, old frame/ cookie cutters to shape the paper. \nMs. Marsha Kalika: Chief Education Officer for Outreach
URL:https://www.scifest.org.za/event/homemade-plantable-seed-paper/
LOCATION:Zoom Meeting
ORGANIZER;CN="Scifest Africa":MAILTO:info@scifest.org.za
END:VEVENT
BEGIN:VEVENT
DTSTART;TZID=Africa/Johannesburg:20220127T140000
DTEND;TZID=Africa/Johannesburg:20220127T160000
DTSTAMP:20260421T084221
CREATED:20220124T130911Z
LAST-MODIFIED:20220124T144507Z
UID:4842-1643292000-1643299200@www.scifest.org.za
SUMMARY:Young Scientists: Scifest Africa: Best Science Communicator Award Winners at Eskom Expo for Young Scientist 2021
DESCRIPTION:Three projects were privileged to receive the Scifest Africa Best Communicator Award at Eskom Expo for Young Scientist ISF\, 2021 and are now included in the 2021-2022 online programme as part of this prestigious award. \nMeet Kutlwano Tshatiwa\, a grade 12 learner from Gabonewe High School in Bojanala region in the North West Province. His research Project titled DoctorNet assists medical doctors in addressing misdiagnosis and or late diagnosis on radiographic data\, which often lead to loss of life. His project is an effort to model technology for good whilst saving lives in the process. \nMeet Ra’ees De Witt\, a Grade 12 leaner from Curro Hermanus Independent School in the Western Cape Region\, . His Research Project is Mitigating Impaired Drug Absorption to shorten Medical Treatment whilst enabling effective Pharmaceutical Product Development. The project investigated drug bioavailability and dissolution by identifying at which gastric pH best permits conditions for first-pass metabolism\, ensuring the highest presence of a selected drug in the gastric fluid when entering the hepatic system; for offering practical implementation strategies to quicken recovery rates. \nMeet Emma –Beth Peters and Kayta Jamie\, grade 12 learners from St. Cyprian’s school in Cape Town\, Western Cape. Their project is based on the varying degrees of human impact along the Liesbeek River. The project investigated the influence of human impact on plant growth along the river’s various sections\, and in doing so hopped to gain a better understanding of how to conserve and protect this ecologically important river.\nWe urge learners\, teachers and parents alike to join this webinar and learn more from these bight young scientists. \n 
URL:https://www.scifest.org.za/event/young-scientists/
ORGANIZER;CN="Scifest Africa":MAILTO:info@scifest.org.za
END:VEVENT
BEGIN:VEVENT
DTSTART;TZID=Africa/Johannesburg:20210611T140000
DTEND;TZID=Africa/Johannesburg:20210611T150000
DTSTAMP:20260421T084221
CREATED:20210420T203051Z
LAST-MODIFIED:20210524T151454Z
UID:4777-1623420000-1623423600@www.scifest.org.za
SUMMARY:Talking heads: what bones\, stones and DNA tell us about human evolution!
DESCRIPTION:More info: https://scifest.nationalartsfestival.co.za/show/talking-heads-what-bones-stones-and-dna-tell-us-about-human-evolution/ \nRegister here: https://zoom.us/meeting/register/tJwtcOuvpz4qGdAIPDPPK2pe0a6PheZZFUoo
URL:https://www.scifest.org.za/event/talking-heads-what-bones-stones-and-dna-tell-us-about-human-evolution/
LOCATION:Zoom Meeting
END:VEVENT
BEGIN:VEVENT
DTSTART;TZID=Africa/Johannesburg:20210520T150000
DTEND;TZID=Africa/Johannesburg:20210520T160000
DTSTAMP:20260421T084221
CREATED:20210426T181345Z
LAST-MODIFIED:20210426T181345Z
UID:4786-1621522800-1621526400@www.scifest.org.za
SUMMARY:Soft tissue\, Hard science – how 360 million year old lamprey infants from Makhanda overturned a 150 year old scientific dogma
DESCRIPTION:Register here: https://zoom.us/webinar/register/WN_5JRQk9aAQZ27RY0LXPd7ng
URL:https://www.scifest.org.za/event/soft-tissue-hard-science-how-360-million-year-old-lamprey-infants-from-makhanda-overturned-a-150-year-old-scientific-dogma/
LOCATION:Zoom Meeting
END:VEVENT
BEGIN:VEVENT
DTSTART;TZID=Africa/Johannesburg:20210514T140000
DTEND;TZID=Africa/Johannesburg:20210514T150000
DTSTAMP:20260421T084221
CREATED:20210420T202634Z
LAST-MODIFIED:20210423T181852Z
UID:4775-1621000800-1621004400@www.scifest.org.za
SUMMARY:Are you related to a cabbage? Let’s talk about evolution!
DESCRIPTION:More info: https://scifest.nationalartsfestival.co.za/show/are-you-related-to-a-cabbage-lets-talk-about-evolution/ \nRegister here: https://zoom.us/meeting/register/tJcufu-rqD0vHNYfzSfbP6q45hP4VGpf7MBl
URL:https://www.scifest.org.za/event/are-you-related-to-a-cabbage-lets-talk-about-evolution/
LOCATION:Zoom Meeting
END:VEVENT
BEGIN:VEVENT
DTSTART;TZID=Africa/Johannesburg:20210511T150000
DTEND;TZID=Africa/Johannesburg:20210511T160000
DTSTAMP:20260421T084221
CREATED:20210423T181315Z
LAST-MODIFIED:20210423T181713Z
UID:4781-1620745200-1620748800@www.scifest.org.za
SUMMARY:Welcome to the Anthropocene: Human impacts on the West Coast of South Africa
DESCRIPTION:Register here: https://zoom.us/webinar/register/WN_pey7DqI_R5Owj1i9IeCZfw
URL:https://www.scifest.org.za/event/welcome-to-the-anthropocene-human-impacts-on-the-west-coast-of-south-africa/
LOCATION:Zoom Meeting
END:VEVENT
BEGIN:VEVENT
DTSTART;TZID=Africa/Johannesburg:20210415T140000
DTEND;TZID=Africa/Johannesburg:20210415T150000
DTSTAMP:20260421T084221
CREATED:20210315T015413Z
LAST-MODIFIED:20210315T015413Z
UID:4772-1618495200-1618498800@www.scifest.org.za
SUMMARY:Indigenous Knowledge Systems can play a vital role in quality education. More focus in Science
DESCRIPTION:Register here: https://zoom.us/webinar/register/WN_1iKQCso5SNGWPl_24SRT2g
URL:https://www.scifest.org.za/event/indigenous-knowledge-systems-can-play-a-vital-role-in-quality-education-more-focus-in-science/
LOCATION:Zoom Meeting
END:VEVENT
BEGIN:VEVENT
DTSTART;TZID=Africa/Johannesburg:20210413T140000
DTEND;TZID=Africa/Johannesburg:20210413T150000
DTSTAMP:20260421T084221
CREATED:20210315T015154Z
LAST-MODIFIED:20210315T015154Z
UID:4770-1618322400-1618326000@www.scifest.org.za
SUMMARY:Scientoons: Science Through Cartoons
DESCRIPTION:Register here: https://zoom.us/webinar/register/WN_ayRp0lH-Tq6Jyx2P8rPmPA
URL:https://www.scifest.org.za/event/scientoons-science-through-cartoons/
LOCATION:Zoom Meeting
END:VEVENT
BEGIN:VEVENT
DTSTART;TZID=Africa/Johannesburg:20210408T140000
DTEND;TZID=Africa/Johannesburg:20210408T150000
DTSTAMP:20260421T084221
CREATED:20210315T013408Z
LAST-MODIFIED:20210315T013408Z
UID:4768-1617890400-1617894000@www.scifest.org.za
SUMMARY:The necessity for Essential Oils
DESCRIPTION:Register here: https://zoom.us/webinar/register/WN_MQeTVGuPRY-3p0pBvY3VZA
URL:https://www.scifest.org.za/event/the-necessity-for-essential-oils/
LOCATION:Zoom Meeting
END:VEVENT
BEGIN:VEVENT
DTSTART;TZID=Africa/Johannesburg:20210315T200000
DTEND;TZID=Africa/Johannesburg:20210315T210000
DTSTAMP:20260421T084221
CREATED:20210305T123312Z
LAST-MODIFIED:20210307T192608Z
UID:4760-1615838400-1615842000@www.scifest.org.za
SUMMARY:The NASA Perseverance Mission: Sampling and Caching Robotic System
DESCRIPTION:More info: https://scifest.nationalartsfestival.co.za/show/the-nasa-perseverance-mission-sampling-and-caching-robotic-system/ \nRegister here: https://zoom.us/webinar/register/WN_0nXfee4pRta42wCR9OxYWg
URL:https://www.scifest.org.za/event/the-nasa-perseverance-mission-sampling-and-caching-robotic-system/
LOCATION:Zoom Meeting
END:VEVENT
BEGIN:VEVENT
DTSTART;TZID=Africa/Johannesburg:20210312T200000
DTEND;TZID=Africa/Johannesburg:20210312T210000
DTSTAMP:20260421T084221
CREATED:20210303T161612Z
LAST-MODIFIED:20210307T192331Z
UID:4758-1615579200-1615582800@www.scifest.org.za
SUMMARY:37 Days to a NASA Ventilator with Dan Goods
DESCRIPTION:More info: https://scifest.nationalartsfestival.co.za/show/37-days-to-a-nasa-ventilator/ \nRegister here: https://zoom.us/webinar/register/WN_m8jxDIMOTyGZ0UQnMmqwDw
URL:https://www.scifest.org.za/event/37-days-to-a-nasa-ventilator-with-dan-goods/
LOCATION:Zoom Meeting
END:VEVENT
BEGIN:VEVENT
DTSTART;TZID=Africa/Johannesburg:20210310T180000
DTEND;TZID=Africa/Johannesburg:20210310T190000
DTSTAMP:20260421T084221
CREATED:20210302T130511Z
LAST-MODIFIED:20210302T155106Z
UID:4752-1615399200-1615402800@www.scifest.org.za
SUMMARY:Harnessing the Innovation of the youth through Expo for young scientists\, the logical road to success
DESCRIPTION:More info: https://scifest.nationalartsfestival.co.za/show/harnessing-the-innovation-of-the-youth-through-expo-for-young-scientists-the-logical-road-to-success/ \nRegister here: https://zoom.us/webinar/register/WN_n4DUPyjaQlaNFtPR6CwLvA
URL:https://www.scifest.org.za/event/harnessing-the-innovation-of-the-youth-through-expo-for-young-scientists-the-logical-road-to-success/
LOCATION:Zoom Meeting
END:VEVENT
BEGIN:VEVENT
DTSTART;TZID=Africa/Johannesburg:20210309T180000
DTEND;TZID=Africa/Johannesburg:20210309T190000
DTSTAMP:20260421T084221
CREATED:20210305T123527Z
LAST-MODIFIED:20210307T192027Z
UID:4762-1615312800-1615316400@www.scifest.org.za
SUMMARY:Stimulating Innovation in Africa: A pathway to Sustainable Development
DESCRIPTION:More info: https://scifest.nationalartsfestival.co.za/show/stimulating-innovation-in-africa-a-pathway-to-sustainable-development/ \nRegister here: https://zoom.us/webinar/register/WN_6CRGgKV6Qoum_dfE3ELtkw
URL:https://www.scifest.org.za/event/stimulating-innovation-in-africa-a-pathway-to-sustainable-development/
LOCATION:Zoom Meeting
END:VEVENT
BEGIN:VEVENT
DTSTART;TZID=Africa/Johannesburg:20210304T180000
DTEND;TZID=Africa/Johannesburg:20210304T190000
DTSTAMP:20260421T084221
CREATED:20210302T130226Z
LAST-MODIFIED:20210303T161356Z
UID:4750-1614880800-1614884400@www.scifest.org.za
SUMMARY:Spirit of Regeneration with Dr Gcina Mhlophe
DESCRIPTION:More info: https://scifest.nationalartsfestival.co.za/show/spirit-of-regeneration/ \nRegister here: https://zoom.us/webinar/register/WN_ywjZfjWeTr-_dQ4TZsgRbQ
URL:https://www.scifest.org.za/event/spirit-of-regeneration-with-dr-gcina-mhlope/
LOCATION:Zoom Meeting
END:VEVENT
BEGIN:VEVENT
DTSTART;TZID=Africa/Johannesburg:20210226T160000
DTEND;TZID=Africa/Johannesburg:20210226T170000
DTSTAMP:20260421T084221
CREATED:20210129T155645Z
LAST-MODIFIED:20210201T194636Z
UID:4724-1614355200-1614358800@www.scifest.org.za
SUMMARY:WORKSHOP - Discover the electromagnetic spectrum (grade 10)
DESCRIPTION:More info: https://scifest.nationalartsfestival.co.za/show/discover-the-electromagnetic-spectrum-caps-workshop/ \nRegister here: https://zoom.us/meeting/register/tJMqfuGvqDsiG93Z9M_D8aXUBzg3nzt3bXJ4
URL:https://www.scifest.org.za/event/workshop-discover-the-electromagnetic-spectrum-grade-10/
LOCATION:Zoom Meeting
END:VEVENT
BEGIN:VEVENT
DTSTART;TZID=Africa/Johannesburg:20210223T180000
DTEND;TZID=Africa/Johannesburg:20210223T190000
DTSTAMP:20260421T084221
CREATED:20210222T211228Z
LAST-MODIFIED:20210222T211418Z
UID:4747-1614103200-1614106800@www.scifest.org.za
SUMMARY:Sunsat Satellite Mission
DESCRIPTION:Register here: https://zoom.us/webinar/register/WN_0AacAA7zSr6JLQo9t_xuyA
URL:https://www.scifest.org.za/event/sunsat-satellite-mission/
LOCATION:Zoom Meeting
END:VEVENT
BEGIN:VEVENT
DTSTART;TZID=Africa/Johannesburg:20210219T160000
DTEND;TZID=Africa/Johannesburg:20210219T170000
DTSTAMP:20260421T084221
CREATED:20210129T154852Z
LAST-MODIFIED:20210201T194405Z
UID:4722-1613750400-1613754000@www.scifest.org.za
SUMMARY:WORKSHOP - Discover things that fly (5+ years)
DESCRIPTION:More info: https://scifest.nationalartsfestival.co.za/show/discover-things-that-fly/ \nRegister here: https://zoom.us/meeting/register/tJUpceGuqz4qH9YkaW-rbPja3pOx6NiQxk_N
URL:https://www.scifest.org.za/event/workshop-discover-things-that-fly-5-years/
LOCATION:Zoom Meeting
END:VEVENT
BEGIN:VEVENT
DTSTART;TZID=Africa/Johannesburg:20210218T180000
DTEND;TZID=Africa/Johannesburg:20210218T190000
DTSTAMP:20260421T084221
CREATED:20210202T171745Z
LAST-MODIFIED:20210208T164227Z
UID:4741-1613671200-1613674800@www.scifest.org.za
SUMMARY:Making a gin from elephant dung means you can’t make a gin that stinks!
DESCRIPTION:More info: https://scifest.nationalartsfestival.co.za/show/making-a-gin-from-elephant-dung-means-you-cant-make-a-gin-that-stinks/ \nRegister here: https://zoom.us/webinar/register/WN_9y3Q4ipJRD-3ITudq00hcw
URL:https://www.scifest.org.za/event/making-a-gin-from-elephant-dung-means-you-cant-make-a-gin-that-stinks/
LOCATION:Zoom Meeting
END:VEVENT
BEGIN:VEVENT
DTSTART;TZID=Africa/Johannesburg:20210216T180000
DTEND;TZID=Africa/Johannesburg:20210216T190000
DTSTAMP:20260421T084221
CREATED:20210129T152824Z
LAST-MODIFIED:20210202T171118Z
UID:4720-1613498400-1613502000@www.scifest.org.za
SUMMARY:Application of Design Thinking in Steering Innovation for Relevance and Societal Impact
DESCRIPTION:More info: https://scifest.nationalartsfestival.co.za/show/application-of-design-thinking-in-steering-innovation-for-relevance-and-societal-impact/ \nRegister here: https://zoom.us/webinar/register/WN_JWa8qt8LR2KdrqpbaY3N7w
URL:https://www.scifest.org.za/event/application-of-design-thinking-in-steering-innovation-for-relevance-and-societal-impact/
LOCATION:Zoom Meeting
END:VEVENT
BEGIN:VEVENT
DTSTART;TZID=Africa/Johannesburg:20210212T160000
DTEND;TZID=Africa/Johannesburg:20210212T170000
DTSTAMP:20260421T084221
CREATED:20210129T125228Z
LAST-MODIFIED:20210201T183538Z
UID:4718-1613145600-1613149200@www.scifest.org.za
SUMMARY:WORKSHOP - Discover the exciting world of matter – solids\, liquids and gases (grade 3+)
DESCRIPTION:More info: https://scifest.nationalartsfestival.co.za/show/discover-the-exciting-world-of-matter-solids-liquids-and-gases-caps-workshop/ \nRegister here: https://zoom.us/meeting/register/tJAkd-CppzgsHtBf7LGMQa7eQgZDLkHF56Ot
URL:https://www.scifest.org.za/event/workshop-discover-the-exciting-world-of-matter-solids-liquids-and-gases-grade-3/
LOCATION:Zoom Meeting
END:VEVENT
BEGIN:VEVENT
DTSTART;TZID=Africa/Johannesburg:20210211T180000
DTEND;TZID=Africa/Johannesburg:20210211T190000
DTSTAMP:20260421T084221
CREATED:20210201T182340Z
LAST-MODIFIED:20210202T171418Z
UID:4729-1613066400-1613070000@www.scifest.org.za
SUMMARY:WORKSHOP - You can become a scientist too! How to identify mermaid’s purses (a.k.a. shark eggcases) for shark conservation
DESCRIPTION:More info: https://scifest.nationalartsfestival.co.za/show/you-can-become-a-scientist-too-how-to-identify-mermaids-purses-a-k-a-shark-eggcases-for-shark-conservation/ \nRegister here: https://zoom.us/meeting/register/tJ0qd-urrDkpE9PPjNZvbaqLXqZ46pPqzhPr
URL:https://www.scifest.org.za/event/workshop-you-can-become-a-scientist-too-how-to-identify-mermaids-purses-a-k-a-shark-eggcases-for-shark-conservation/
LOCATION:Zoom Meeting
END:VEVENT
BEGIN:VEVENT
DTSTART;TZID=Africa/Johannesburg:20210210T180000
DTEND;TZID=Africa/Johannesburg:20210210T190000
DTSTAMP:20260421T084221
CREATED:20210201T164238Z
LAST-MODIFIED:20210205T160026Z
UID:4726-1612980000-1612983600@www.scifest.org.za
SUMMARY:African wisdom and education (rescheduled)
DESCRIPTION:More info: https://scifest.nationalartsfestival.co.za/show/african-wisdom-and-education/ \nRegister here: https://zoom.us/webinar/register/WN_QHw3hPZqR26Z5dq_3ISj7g
URL:https://www.scifest.org.za/event/african-wisdom-and-education/
LOCATION:Zoom Meeting
END:VEVENT
BEGIN:VEVENT
DTSTART;TZID=Africa/Johannesburg:20210209T180000
DTEND;TZID=Africa/Johannesburg:20210209T190000
DTSTAMP:20260421T084221
CREATED:20210129T123935Z
LAST-MODIFIED:20210129T123935Z
UID:4716-1612893600-1612897200@www.scifest.org.za
SUMMARY:Traditional fishing methods of Africa as an example of indigenous knowledge systems
DESCRIPTION:More info: https://scifest.nationalartsfestival.co.za/show/traditional-fishing-methods-of-africa-as-an-example-of-indigenous-knowledge-systems/ \nRegister here: https://zoom.us/webinar/register/WN_UZrezNoSRYiZGDMP0i6m6A
URL:https://www.scifest.org.za/event/traditional-fishing-methods-of-africa-as-an-example-of-indigenous-knowledge-systems/
LOCATION:Zoom Meeting
END:VEVENT
BEGIN:VEVENT
DTSTART;TZID=Africa/Johannesburg:20210205T160000
DTEND;TZID=Africa/Johannesburg:20210205T170000
DTSTAMP:20260421T084221
CREATED:20210129T123056Z
LAST-MODIFIED:20210201T183204Z
UID:4713-1612540800-1612544400@www.scifest.org.za
SUMMARY:WORKSHOP - Discover fossils (5+ years)
DESCRIPTION:More info: https://scifest.nationalartsfestival.co.za/show/discover-fossils/ \nRegister here: https://zoom.us/meeting/register/tJAof-qurzsrHdF4M6evUdmrmvcDeduZuIYB
URL:https://www.scifest.org.za/event/discover-fossils-5-years/
LOCATION:Zoom Meeting
END:VEVENT
BEGIN:VEVENT
DTSTART;TZID=Africa/Johannesburg:20210129T160000
DTEND;TZID=Africa/Johannesburg:20210129T170000
DTSTAMP:20260421T084221
CREATED:20201127T134414Z
LAST-MODIFIED:20201218T112513Z
UID:4668-1611936000-1611939600@www.scifest.org.za
SUMMARY:WORKSHOP - CSI: The chocolate cake case
DESCRIPTION:More info: https://scifest.nationalartsfestival.co.za/show/csi-the-chocolate-cake-case/ \nRegister here: https://zoom.us/meeting/register/tJAocOyoqjwjH9BUSxto2GA5R28wT2kJKZuG
URL:https://www.scifest.org.za/event/workshop-csi-the-chocolate-cake-case/
LOCATION:Zoom Meeting
END:VEVENT
BEGIN:VEVENT
DTSTART;TZID=Africa/Johannesburg:20210127T180000
DTEND;TZID=Africa/Johannesburg:20210127T193000
DTSTAMP:20260421T084221
CREATED:20210120T154130Z
LAST-MODIFIED:20210122T135529Z
UID:4703-1611770400-1611775800@www.scifest.org.za
SUMMARY:Creativity in the Arts and Sciences: Perspectives from Africa and Abroad
DESCRIPTION:More info: https://scifest.nationalartsfestival.co.za/show/creativity-in-the-arts-and-sciences-perspectives-from-africa-and-abroad/ \nRegister here: https://zoom.us/webinar/register/WN_PAbHWdiyQn2Udwz_TiyAeA
URL:https://www.scifest.org.za/event/creativity-in-the-arts-and-sciences-perspectives-from-africa-and-abroad/
LOCATION:Zoom Meeting
END:VEVENT
BEGIN:VEVENT
DTSTART;TZID=Africa/Johannesburg:20210127T160000
DTEND;TZID=Africa/Johannesburg:20210127T170000
DTSTAMP:20260421T084221
CREATED:20210120T172656Z
LAST-MODIFIED:20210122T135400Z
UID:4705-1611763200-1611766800@www.scifest.org.za
SUMMARY:Good vibrations - the Science of Sound!
DESCRIPTION:More info: https://scifest.nationalartsfestival.co.za/show/good-vibrations-the-science-of-sound/ \nRegister here: https://zoom.us/webinar/register/WN_L8kwjPaoReicr7edx3DWog
URL:https://www.scifest.org.za/event/good-vibrations-the-science-of-sound/
LOCATION:Zoom Meeting
END:VEVENT
BEGIN:VEVENT
DTSTART;TZID=Africa/Johannesburg:20210122T160000
DTEND;TZID=Africa/Johannesburg:20210122T170000
DTSTAMP:20260421T084221
CREATED:20201127T134239Z
LAST-MODIFIED:20201218T112327Z
UID:4666-1611331200-1611334800@www.scifest.org.za
SUMMARY:WORKSHOP - DNA: The Recipe for Life
DESCRIPTION:More info: https://scifest.nationalartsfestival.co.za/show/dna-the-recipe-for-life/ \nRegister here: https://zoom.us/meeting/register/tJAocOyoqjwjH9BUSxto2GA5R28wT2kJKZuG
URL:https://www.scifest.org.za/event/workshop-dna-the-recipe-for-life/
END:VEVENT
END:VCALENDAR