BEGIN:VCALENDAR
VERSION:2.0
PRODID:-//Scifest Africa - ECPv6.15.11//NONSGML v1.0//EN
CALSCALE:GREGORIAN
METHOD:PUBLISH
X-ORIGINAL-URL:https://www.scifest.org.za
X-WR-CALDESC:Events for Scifest Africa
REFRESH-INTERVAL;VALUE=DURATION:PT1H
X-Robots-Tag:noindex
X-PUBLISHED-TTL:PT1H
BEGIN:VTIMEZONE
TZID:Africa/Johannesburg
BEGIN:STANDARD
TZOFFSETFROM:+0200
TZOFFSETTO:+0200
TZNAME:SAST
DTSTART:20190101T000000
END:STANDARD
END:VTIMEZONE
BEGIN:VEVENT
DTSTART;TZID=Africa/Johannesburg:20210115T160000
DTEND;TZID=Africa/Johannesburg:20210115T170000
DTSTAMP:20260425T135503
CREATED:20201127T133917Z
LAST-MODIFIED:20201218T112145Z
UID:4664-1610726400-1610730000@www.scifest.org.za
SUMMARY:WORKSHOP - Discover Volcanoes
DESCRIPTION:More info: https://scifest.nationalartsfestival.co.za/show/discover-volcanoes/ \nRegister here: https://zoom.us/meeting/register/tJAocOyoqjwjH9BUSxto2GA5R28wT2kJKZuG
URL:https://www.scifest.org.za/event/workshop-discover-volcanoes/
LOCATION:Zoom Meeting
END:VEVENT
BEGIN:VEVENT
DTSTART;TZID=Africa/Johannesburg:20210108T160000
DTEND;TZID=Africa/Johannesburg:20210108T170000
DTSTAMP:20260425T135503
CREATED:20201127T133723Z
LAST-MODIFIED:20201218T111829Z
UID:4662-1610121600-1610125200@www.scifest.org.za
SUMMARY:WORKSHOP - What's inside a crystal
DESCRIPTION:More info: https://scifest.nationalartsfestival.co.za/show/whats-inside-a-crystal/ \nRegister here: https://zoom.us/meeting/register/tJAocOyoqjwjH9BUSxto2GA5R28wT2kJKZuG
URL:https://www.scifest.org.za/event/workshop-whats-inside-a-crystal/
LOCATION:Zoom Meeting
END:VEVENT
BEGIN:VEVENT
DTSTART;TZID=Africa/Johannesburg:20201215T180000
DTEND;TZID=Africa/Johannesburg:20201215T190000
DTSTAMP:20260425T135503
CREATED:20201214T163019Z
LAST-MODIFIED:20201214T163019Z
UID:4688-1608055200-1608058800@www.scifest.org.za
SUMMARY:THE DEVELOPMENT OF COMMERCIAL CANNABIS FARMING
DESCRIPTION:More info: https://scifest.nationalartsfestival.co.za/show/the-development-of-commercial-cannabis-farming/ \nRegister here: https://zoom.us/webinar/register/WN_p2LWC2RLQB-tgo2piTrt4Q
URL:https://www.scifest.org.za/event/the-development-of-commercial-cannabis-farming/
LOCATION:Zoom Meeting
END:VEVENT
BEGIN:VEVENT
DTSTART;TZID=Africa/Johannesburg:20201214T180000
DTEND;TZID=Africa/Johannesburg:20201214T190000
DTSTAMP:20260425T135503
CREATED:20201130T190327Z
LAST-MODIFIED:20201202T152238Z
UID:4677-1607968800-1607972400@www.scifest.org.za
SUMMARY:WOMEN in Farming
DESCRIPTION:More info: https://scifest.nationalartsfestival.co.za/show/women-in-farming/ \nRegister here: https://zoom.us/webinar/register/WN_MpKWI8DTSh-zc6j84edaPA
URL:https://www.scifest.org.za/event/women-in-farming/
LOCATION:Zoom Meeting
END:VEVENT
BEGIN:VEVENT
DTSTART;TZID=Africa/Johannesburg:20201211T140000
DTEND;TZID=Africa/Johannesburg:20201211T150000
DTSTAMP:20260425T135503
CREATED:20201130T190037Z
LAST-MODIFIED:20201202T152017Z
UID:4675-1607695200-1607698800@www.scifest.org.za
SUMMARY:Innovations and Technologies in Agriculture
DESCRIPTION:More info: https://scifest.nationalartsfestival.co.za/show/innovations-and-technologies-in-agriculture/ \nRegister here: https://zoom.us/webinar/register/WN_WJbY49XPSMmbUsCcwcqq1Q
URL:https://www.scifest.org.za/event/innovations-and-technologies-in-agriculture/
LOCATION:Zoom Meeting
END:VEVENT
BEGIN:VEVENT
DTSTART;TZID=Africa/Johannesburg:20201211T093000
DTEND;TZID=Africa/Johannesburg:20201211T103000
DTSTAMP:20260425T135503
CREATED:20201127T132701Z
LAST-MODIFIED:20201207T194545Z
UID:4656-1607679000-1607682600@www.scifest.org.za
SUMMARY:Dr Graham’s Blow-Up Science
DESCRIPTION:More info: https://scifest.nationalartsfestival.co.za/show/dr-grahams-blow-up-science/ \nRegister here: https://zoom.us/webinar/register/WN_Zzia3-KCTzKgMBeocDaP-A \n 
URL:https://www.scifest.org.za/event/dr-grahams-blow-up-science/
LOCATION:Zoom Meeting
END:VEVENT
BEGIN:VEVENT
DTSTART;TZID=Africa/Johannesburg:20201210T140000
DTEND;TZID=Africa/Johannesburg:20201210T150000
DTSTAMP:20260425T135503
CREATED:20201202T151804Z
LAST-MODIFIED:20201206T170940Z
UID:4679-1607608800-1607612400@www.scifest.org.za
SUMMARY:Rise of small scale farmers in South Africa
DESCRIPTION:More info: https://scifest.nationalartsfestival.co.za/show/the-rise-of-small-scale-farmers-in-south-africa/ \nRegister here: https://zoom.us/webinar/register/WN_XwouPThLQLS3savIgB4Kwg
URL:https://www.scifest.org.za/event/rise-of-small-scale-farmers-in-south-africa/
LOCATION:Zoom Meeting
END:VEVENT
BEGIN:VEVENT
DTSTART;TZID=Africa/Johannesburg:20201209T180000
DTEND;TZID=Africa/Johannesburg:20201209T190000
DTSTAMP:20260425T135503
CREATED:20201130T185754Z
LAST-MODIFIED:20201206T160933Z
UID:4673-1607536800-1607540400@www.scifest.org.za
SUMMARY:Virus vs Vaccines
DESCRIPTION:More info: https://scifest.nationalartsfestival.co.za/show/virus-vs-vaccines/ \nRegister here: https://zoom.us/webinar/register/WN_gzXcxYCUQACG1sno8V_AVw
URL:https://www.scifest.org.za/event/virus-vs-vaccines/
LOCATION:Zoom Meeting
END:VEVENT
BEGIN:VEVENT
DTSTART;TZID=Africa/Johannesburg:20201207T140000
DTEND;TZID=Africa/Johannesburg:20201207T150000
DTSTAMP:20260425T135503
CREATED:20201127T133344Z
LAST-MODIFIED:20201128T173240Z
UID:4660-1607349600-1607353200@www.scifest.org.za
SUMMARY:Mint Infusions
DESCRIPTION:More info: https://scifest.nationalartsfestival.co.za/show/mint-infusions/ \nRegister here: https://zoom.us/webinar/register/WN_vgqdZWdtTwipwSTtsQEuCg
URL:https://www.scifest.org.za/event/mint-infusions/
LOCATION:Zoom Meeting
END:VEVENT
BEGIN:VEVENT
DTSTART;TZID=Africa/Johannesburg:20201203T180000
DTEND;TZID=Africa/Johannesburg:20201203T190000
DTSTAMP:20260425T135503
CREATED:20201127T132948Z
LAST-MODIFIED:20201128T173116Z
UID:4658-1607018400-1607022000@www.scifest.org.za
SUMMARY:From the tiniest seed\, a huge baobab grows with Dr Gcina Mhlophe
DESCRIPTION:More info: https://scifest.nationalartsfestival.co.za/show/from-the-tiniest-seed-a-huge-baobab-grows/ \nRegister here: https://zoom.us/webinar/register/WN_IzkCvrn4QfeeLZlNyVzUqw
URL:https://www.scifest.org.za/event/from-the-tiniest-seed-a-huge-baobab-grows-with-dr-gcina-mhlophe/
LOCATION:Zoom Meeting
END:VEVENT
BEGIN:VEVENT
DTSTART;TZID=Africa/Johannesburg:20201125T180000
DTEND;TZID=Africa/Johannesburg:20201125T190000
DTSTAMP:20260425T135503
CREATED:20201118T182632Z
LAST-MODIFIED:20201119T150842Z
UID:4650-1606327200-1606330800@www.scifest.org.za
SUMMARY:The Energy landscape in South Africa: Nurturing a sustainable future
DESCRIPTION:More info: https://scifest.nationalartsfestival.co.za/show/the-energy-landscape-in-south-africa-nurturing-a-sustainable-future/ \nRegister here: https://zoom.us/webinar/register/WN__f7jqVchRh-VF3Yx-3fAKw
URL:https://www.scifest.org.za/event/the-energy-landscape-in-south-africa-nurturing-a-sustainable-future/
LOCATION:Zoom Meeting
END:VEVENT
BEGIN:VEVENT
DTSTART;TZID=Africa/Johannesburg:20201124T180000
DTEND;TZID=Africa/Johannesburg:20201124T190000
DTSTAMP:20260425T135503
CREATED:20201101T220655Z
LAST-MODIFIED:20201102T130647Z
UID:4622-1606240800-1606244400@www.scifest.org.za
SUMMARY:Simple and Sustainable living with Rob Greenfield
DESCRIPTION:More info: https://scifest.nationalartsfestival.co.za/show/simple-and-sustainable-living-with-rob-greenfield/ \nRegister here: https://zoom.us/webinar/register/WN_OW9QVgrUTXGBjr8hEGgZZA
URL:https://www.scifest.org.za/event/simple-and-sustainable-living-with-rob-greenfield/
LOCATION:Zoom Meeting
END:VEVENT
BEGIN:VEVENT
DTSTART;TZID=Africa/Johannesburg:20201120T150000
DTEND;TZID=Africa/Johannesburg:20201120T160000
DTSTAMP:20260425T135503
CREATED:20201110T182936Z
LAST-MODIFIED:20201110T182936Z
UID:4645-1605884400-1605888000@www.scifest.org.za
SUMMARY:Climate Change and our Oceans: Impacts and Solutions
DESCRIPTION:More info: https://scifest.nationalartsfestival.co.za/show/climate-change-and-our-oceans-impacts-and-solutions/ \nRegister here: https://zoom.us/webinar/register/WN_ac5a1_ohRICjp5PUd0O9_Q
URL:https://www.scifest.org.za/event/climate-change-and-our-oceans-impacts-and-solutions/
LOCATION:Zoom Meeting
END:VEVENT
BEGIN:VEVENT
DTSTART;TZID=Africa/Johannesburg:20201117T180000
DTEND;TZID=Africa/Johannesburg:20201117T190000
DTSTAMP:20260425T135503
CREATED:20201101T220431Z
LAST-MODIFIED:20201103T170820Z
UID:4620-1605636000-1605639600@www.scifest.org.za
SUMMARY:Learning from Nature: how we can use biomimicry to live sustainably
DESCRIPTION:More info: https://scifest.nationalartsfestival.co.za/show/learning-from-nature-how-we-can-use-biomimicry-to-live-sustainably/ \nRegister here: https://zoom.us/webinar/register/WN_hF_Jyp6FQZuowL81VNnM9g
URL:https://www.scifest.org.za/event/learning-from-nature-how-we-can-use-biomimicry-to-live-sustainably/
LOCATION:Zoom Meeting
END:VEVENT
BEGIN:VEVENT
DTSTART;TZID=Africa/Johannesburg:20201113T133000
DTEND;TZID=Africa/Johannesburg:20201113T143000
DTSTAMP:20260425T135503
CREATED:20201101T220218Z
LAST-MODIFIED:20201102T130243Z
UID:4618-1605274200-1605277800@www.scifest.org.za
SUMMARY:Live Science Show with Split Second Science
DESCRIPTION:More info: https://scifest.nationalartsfestival.co.za/show/live-science-show/ \nRegister here: https://zoom.us/webinar/register/WN_gVpWPbJFQ0WY5AqDKE7j4g
URL:https://www.scifest.org.za/event/live-science-show-with-split-second-science/
LOCATION:Zoom Meeting
END:VEVENT
BEGIN:VEVENT
DTSTART;TZID=Africa/Johannesburg:20201110T180000
DTEND;TZID=Africa/Johannesburg:20201110T190000
DTSTAMP:20260425T135503
CREATED:20201101T215945Z
LAST-MODIFIED:20201103T165941Z
UID:4616-1605031200-1605034800@www.scifest.org.za
SUMMARY:The rise of South Africa's Blue Economy vs the need to 'Nurture' a sustainable aquatic ecosystem
DESCRIPTION:More info: https://scifest.nationalartsfestival.co.za/show/the-rise-of-south-africas-blue-economy-vs-the-need-to-nurture-a-sustainable-aquatic-ecosystem/ \nRegister here: https://zoom.us/webinar/register/WN_0s53ZjYbQ9eThjHCs1JO8g
URL:https://www.scifest.org.za/event/the-rise-of-south-africas-blue-economy-vs-the-need-to-nurture-a-sustainable-aquatic-ecosystem/
LOCATION:Zoom Meeting
END:VEVENT
BEGIN:VEVENT
DTSTART;TZID=Africa/Johannesburg:20201106T150000
DTEND;TZID=Africa/Johannesburg:20201106T160000
DTSTAMP:20260425T135503
CREATED:20201026T152924Z
LAST-MODIFIED:20201102T124712Z
UID:4609-1604674800-1604678400@www.scifest.org.za
SUMMARY:EcoBricks\, a Solution within the Green Economy
DESCRIPTION:More info: https://scifest.nationalartsfestival.co.za/show/ecobricks-a-solution-within-the-green-economy/ \nRegister here: https://zoom.us/webinar/register/WN_PyC8Gl3WSJyAEc1poR6F5A
URL:https://www.scifest.org.za/event/ecobricks-a-solution-within-the-green-economy/
LOCATION:Zoom Meeting
ORGANIZER;CN="Scifest Africa":MAILTO:info@scifest.org.za
END:VEVENT
BEGIN:VEVENT
DTSTART;TZID=Africa/Johannesburg:20201105T180000
DTEND;TZID=Africa/Johannesburg:20201105T190000
DTSTAMP:20260425T135503
CREATED:20201101T215643Z
LAST-MODIFIED:20201103T165212Z
UID:4614-1604599200-1604602800@www.scifest.org.za
SUMMARY:The Uniqueness of South African Plant Diversity and The Role of Botanical Gardens in Plant Conservation
DESCRIPTION:More info: https://scifest.nationalartsfestival.co.za/show/the-uniqueness-of-south-african-plant-diversity-and-the-role-of-botanical-gardens-in-plant-conservation/ \nRegister here: https://zoom.us/webinar/register/WN_TW8f9809SqaU9E2DD7mDpA
URL:https://www.scifest.org.za/event/the-uniqueness-of-south-african-plant-diversity-and-the-role-of-botanical-gardens-in-plant-conservation/
LOCATION:Zoom Meeting
END:VEVENT
BEGIN:VEVENT
DTSTART;TZID=Africa/Johannesburg:20201103T180000
DTEND;TZID=Africa/Johannesburg:20201103T190000
DTSTAMP:20260425T135503
CREATED:20201101T215326Z
LAST-MODIFIED:20201102T124056Z
UID:4612-1604426400-1604430000@www.scifest.org.za
SUMMARY:Tales of the Ocean with Gcina Mhlope
DESCRIPTION:More info: https://scifest.nationalartsfestival.co.za/show/tales-of-the-ocean/ \nRegister here: https://zoom.us/webinar/register/WN_vy0eAsakRGa2fSLCVySxXw
URL:https://www.scifest.org.za/event/tales-of-the-ocean-with-gcina-mhlope/
LOCATION:Zoom Meeting
END:VEVENT
BEGIN:VEVENT
DTSTART;TZID=Africa/Johannesburg:20201029T180000
DTEND;TZID=Africa/Johannesburg:20201029T190000
DTSTAMP:20260425T135503
CREATED:20201009T155053Z
LAST-MODIFIED:20201019T135831Z
UID:4542-1603994400-1603998000@www.scifest.org.za
SUMMARY:Space as an Aid to a Sustainable Planet
DESCRIPTION:More info: https://scifest.nationalartsfestival.co.za/show/space-as-an-aid-to-a-sustainable-planet/ \nRegister here: https://zoom.us/webinar/register/WN_Apv2Qj6mQbS2ah4UzSRQxQ
URL:https://www.scifest.org.za/event/space-as-an-aid-to-a-sustainable-planet/
LOCATION:Zoom Meeting
END:VEVENT
BEGIN:VEVENT
DTSTART;TZID=Africa/Johannesburg:20201023T193000
DTEND;TZID=Africa/Johannesburg:20201023T203000
DTSTAMP:20260425T135503
CREATED:20201014T152457Z
LAST-MODIFIED:20201022T143617Z
UID:4546-1603481400-1603485000@www.scifest.org.za
SUMMARY:Star Party with Master KG in collaboration with SAAO
DESCRIPTION:Master KG decides to take his music into space!!!\nFollowing the global celebration of the hit single Jerusalema\, Master KG joins the collaboration between the South African Astronomical Observatory and Scifest Africa for a night of live\nvirtual stargazing and good music. \nMaster KG acknowledges the harsh impact that COVID-19 has had on our youth in SA and\nencourages our youth to enter the #Junior Astrophotography and #Astro Art competition to win\nprizes such as laptops and tablets embracing the #Digital and #4IR. Some winners will be announced\nby the legend himself at the event. \nJoin in on the Scifest Africa Facebook page here: https://www.facebook.com/events/916177792124372/ \n 
URL:https://www.scifest.org.za/event/star-party-with-master-kg-in-collaboration-with-saao/
LOCATION:Scifest Africa Facebook
END:VEVENT
BEGIN:VEVENT
DTSTART;TZID=Africa/Johannesburg:20201023T140000
DTEND;TZID=Africa/Johannesburg:20201023T150000
DTSTAMP:20260425T135503
CREATED:20201009T154723Z
LAST-MODIFIED:20201019T140538Z
UID:4540-1603461600-1603465200@www.scifest.org.za
SUMMARY:Making Sense of Our World Through Space Science and Technology
DESCRIPTION:More info: https://scifest.nationalartsfestival.co.za/show/making-sense-of-our-world-through-space-science-and-technology/ \nRegister here: https://zoom.us/webinar/register/WN_20-2cwmBSN6a8tZEjjYOvw
URL:https://www.scifest.org.za/event/making-sense-of-our-world-through-space-science-and-technology/
LOCATION:Zoom Meeting
END:VEVENT
BEGIN:VEVENT
DTSTART;TZID=Africa/Johannesburg:20201022T180000
DTEND;TZID=Africa/Johannesburg:20201022T190000
DTSTAMP:20260425T135503
CREATED:20201009T154025Z
LAST-MODIFIED:20201019T140843Z
UID:4538-1603389600-1603393200@www.scifest.org.za
SUMMARY:Virtual VLA Tour
DESCRIPTION:More info: https://scifest.nationalartsfestival.co.za/show/virtual-vla-tour/ \nRegister here: https://zoom.us/webinar/register/WN_vpQcEq2ZRAK68e-fY06wuA
URL:https://www.scifest.org.za/event/virtual-vla-tour/
LOCATION:Zoom Meeting
END:VEVENT
BEGIN:VEVENT
DTSTART;TZID=Africa/Johannesburg:20201022T160000
DTEND;TZID=Africa/Johannesburg:20201022T170000
DTSTAMP:20260425T135503
CREATED:20201009T153734Z
LAST-MODIFIED:20201019T141135Z
UID:4536-1603382400-1603386000@www.scifest.org.za
SUMMARY:Unlock Science - creative science show
DESCRIPTION:More info: https://scifest.nationalartsfestival.co.za/show/unlock-science/ \nRegister here: https://zoom.us/webinar/register/WN_S5AvNPAhQSmkiNtTmwNF5w
URL:https://www.scifest.org.za/event/unlock-science-creative-science-show/
LOCATION:Zoom Meeting
END:VEVENT
BEGIN:VEVENT
DTSTART;TZID=Africa/Johannesburg:20201022T140000
DTEND;TZID=Africa/Johannesburg:20201022T150000
DTSTAMP:20260425T135503
CREATED:20201009T153037Z
LAST-MODIFIED:20201019T141343Z
UID:4534-1603375200-1603378800@www.scifest.org.za
SUMMARY:Astrotourism - The impact of Astronomy in Sutherland
DESCRIPTION:More info: https://scifest.nationalartsfestival.co.za/show/astrotourism/ \nRegister here: https://zoom.us/webinar/register/WN_SgIC9QJ2QHCAMKGQ-sSULQ
URL:https://www.scifest.org.za/event/astrotourism-the-impact-of-astronomy-in-sutherland/
LOCATION:Zoom Meeting
END:VEVENT
BEGIN:VEVENT
DTSTART;TZID=Africa/Johannesburg:20201022T110000
DTEND;TZID=Africa/Johannesburg:20201022T120000
DTSTAMP:20260425T135503
CREATED:20201008T143441Z
LAST-MODIFIED:20201019T141542Z
UID:4528-1603364400-1603368000@www.scifest.org.za
SUMMARY:MASTERING ASTRONOMY WORKSHOP
DESCRIPTION:More info: https://scifest.nationalartsfestival.co.za/show/mastering-astronomy/ \nRegister here: https://zoom.us/meeting/register/tJwkf-CuqTgjHdAA94yMosUS_UosYSHBee3L
URL:https://www.scifest.org.za/event/mastering-astronomy-workshop/
LOCATION:Zoom Meeting
END:VEVENT
BEGIN:VEVENT
DTSTART;TZID=Africa/Johannesburg:20201021T180000
DTEND;TZID=Africa/Johannesburg:20201021T190000
DTSTAMP:20260425T135503
CREATED:20201008T121943Z
LAST-MODIFIED:20201019T134901Z
UID:4524-1603303200-1603306800@www.scifest.org.za
SUMMARY:THE SEARCH FOR SIGN OF LIFE BEYOND EARTH
DESCRIPTION:More info: https://scifest.nationalartsfestival.co.za/show/the-search-for-sign-of-life-beyond-earth/  \nRegister here: https://zoom.us/webinar/register/WN_rYTb-aibRdyFHDk7NlWdZw
URL:https://www.scifest.org.za/event/the-search-for-sign-of-life-beyond-earth/
LOCATION:Zoom Meeting
END:VEVENT
BEGIN:VEVENT
DTSTART;TZID=Africa/Johannesburg:20201021T140000
DTEND;TZID=Africa/Johannesburg:20201021T150000
DTSTAMP:20260425T135503
CREATED:20201008T121028Z
LAST-MODIFIED:20201019T141807Z
UID:4520-1603288800-1603292400@www.scifest.org.za
SUMMARY:The Future of Cosmology and Natural Science
DESCRIPTION:More info: https://scifest.nationalartsfestival.co.za/show/the-future-of-cosmology-and-natural-science/ \nRegister here: https://zoom.us/webinar/register/WN_UlQUyMYCTLmeOgrL7jWWtQ
URL:https://www.scifest.org.za/event/the-future-of-cosmology-and-natural-science/
LOCATION:Zoom Meeting
ORGANIZER;CN="Scifest Africa":MAILTO:info@scifest.org.za
END:VEVENT
BEGIN:VEVENT
DTSTART;TZID=Africa/Johannesburg:20201021T100000
DTEND;TZID=Africa/Johannesburg:20201021T130000
DTSTAMP:20260425T135503
CREATED:20201008T115314Z
LAST-MODIFIED:20201019T142012Z
UID:4518-1603274400-1603285200@www.scifest.org.za
SUMMARY:International Science Communication and Engagement Webinar on Best Practices for Science Communication using Digital Platforms
DESCRIPTION:More info: https://scifest.nationalartsfestival.co.za/show/international-science-communication-and-engagement-webinar-on-best-practices-for-science-communication-using-digital-platforms-session-1/ \nRegister here: https://zoom.us/webinar/register/WN_chNX24EqRO2WxvVgUt4Ejg
URL:https://www.scifest.org.za/event/international-science-communication-and-engagement-webinar-on-best-practices-for-science-communication-using-digital-platforms/
LOCATION:Zoom Meeting
ORGANIZER;CN="Scifest Africa":MAILTO:info@scifest.org.za
END:VEVENT
BEGIN:VEVENT
DTSTART;TZID=Africa/Johannesburg:20201020T180000
DTEND;TZID=Africa/Johannesburg:20201020T190000
DTSTAMP:20260425T135503
CREATED:20201008T114240Z
LAST-MODIFIED:20201019T142233Z
UID:4513-1603216800-1603220400@www.scifest.org.za
SUMMARY:Artemis Plan - NASA’s Lunar Exploration Program Overview
DESCRIPTION:More info: https://scifest.nationalartsfestival.co.za/show/artemis-plan-nasas-lunar-exploration-program-overview/ \nRegister here: https://zoom.us/webinar/register/WN__enSrBvTSBugrgrYl_NDjw
URL:https://www.scifest.org.za/event/zoom-webinar-artemis-plan-nasas-lunar-exploration-program-overview/
LOCATION:Zoom Meeting
ORGANIZER;CN="Scifest Africa":MAILTO:info@scifest.org.za
END:VEVENT
END:VCALENDAR