BEGIN:VCALENDAR
VERSION:2.0
PRODID:-//Scifest Africa - ECPv6.15.11//NONSGML v1.0//EN
CALSCALE:GREGORIAN
METHOD:PUBLISH
X-WR-CALNAME:Scifest Africa
X-ORIGINAL-URL:https://www.scifest.org.za
X-WR-CALDESC:Events for Scifest Africa
REFRESH-INTERVAL;VALUE=DURATION:PT1H
X-Robots-Tag:noindex
X-PUBLISHED-TTL:PT1H
BEGIN:VTIMEZONE
TZID:Africa/Johannesburg
BEGIN:STANDARD
TZOFFSETFROM:+0200
TZOFFSETTO:+0200
TZNAME:SAST
DTSTART:20170101T000000
END:STANDARD
END:VTIMEZONE
BEGIN:VTIMEZONE
TZID:UTC
BEGIN:STANDARD
TZOFFSETFROM:+0000
TZOFFSETTO:+0000
TZNAME:UTC
DTSTART:20170101T000000
END:STANDARD
END:VTIMEZONE
BEGIN:VTIMEZONE
TZID:Europe/Helsinki
BEGIN:DAYLIGHT
TZOFFSETFROM:+0200
TZOFFSETTO:+0300
TZNAME:EEST
DTSTART:20170326T010000
END:DAYLIGHT
BEGIN:STANDARD
TZOFFSETFROM:+0300
TZOFFSETTO:+0200
TZNAME:EET
DTSTART:20171029T010000
END:STANDARD
BEGIN:DAYLIGHT
TZOFFSETFROM:+0200
TZOFFSETTO:+0300
TZNAME:EEST
DTSTART:20180325T010000
END:DAYLIGHT
BEGIN:STANDARD
TZOFFSETFROM:+0300
TZOFFSETTO:+0200
TZNAME:EET
DTSTART:20181028T010000
END:STANDARD
BEGIN:DAYLIGHT
TZOFFSETFROM:+0200
TZOFFSETTO:+0300
TZNAME:EEST
DTSTART:20190331T010000
END:DAYLIGHT
BEGIN:STANDARD
TZOFFSETFROM:+0300
TZOFFSETTO:+0200
TZNAME:EET
DTSTART:20191027T010000
END:STANDARD
END:VTIMEZONE
BEGIN:VEVENT
DTSTART;TZID=Africa/Johannesburg:20201020T140000
DTEND;TZID=Africa/Johannesburg:20201020T150000
DTSTAMP:20260425T183604
CREATED:20201008T112611Z
LAST-MODIFIED:20201019T142502Z
UID:4509-1603202400-1603206000@www.scifest.org.za
SUMMARY:The NASA Juno mission and Clyde’s Spot
DESCRIPTION:More info: https://scifest.nationalartsfestival.co.za/show/the-nasa-juno-mission-and-clydes-spot/ \nRegister here: https://zoom.us/webinar/register/WN_TlKdMcxbQuCpfEI5U2x7IQ
URL:https://www.scifest.org.za/event/zoom-webinar-the-nasa-juno-mission-and-clydes-spot/
END:VEVENT
BEGIN:VEVENT
DTSTART;TZID=Africa/Johannesburg:20201020T123000
DTEND;TZID=Africa/Johannesburg:20201020T133000
DTSTAMP:20260425T183604
CREATED:20201008T111424Z
LAST-MODIFIED:20201019T143657Z
UID:4505-1603197000-1603200600@www.scifest.org.za
SUMMARY:Engaging Astronomy - Resources for Educators and Parents
DESCRIPTION:More info: https://scifest.nationalartsfestival.co.za/show/engaging-astronomy-resources-for-educators-and-parents/ \nRegister here: https://zoom.us/meeting/register/tJAqfuCtrjMpHtd7g6X7hbW0RbRvzwN4IJ2F
URL:https://www.scifest.org.za/event/zoom-workshop-engaging-astronomy-resources-for-educators-and-parents/
LOCATION:Zoom Meeting
ORGANIZER;CN="Scifest Africa":MAILTO:info@scifest.org.za
END:VEVENT
BEGIN:VEVENT
DTSTART;TZID=Africa/Johannesburg:20201008T180000
DTEND;TZID=Africa/Johannesburg:20201008T190000
DTSTAMP:20260425T183604
CREATED:20201006T140551Z
LAST-MODIFIED:20201006T140551Z
UID:4439-1602180000-1602183600@www.scifest.org.za
SUMMARY:Webinar: CAMPFIRE UNDER THE AFRICAN SKIES
DESCRIPTION:https://scifest.nationalartsfestival.co.za/show/campfire-under-the-african-skies/ \nRegister here: https://zoom.us/webinar/register/WN_WtoPBCbNSFiLXCzuscKrhg \n 
URL:https://www.scifest.org.za/event/webinar-campfire-under-the-african-skies/
LOCATION:Zoom Meeting
END:VEVENT
BEGIN:VEVENT
DTSTART;TZID=Africa/Johannesburg:20200831T160000
DTEND;TZID=Africa/Johannesburg:20200831T170000
DTSTAMP:20260425T183604
CREATED:20200828T093626Z
LAST-MODIFIED:20200828T093626Z
UID:4281-1598889600-1598893200@www.scifest.org.za
SUMMARY:Webinar: 'Indigenous Greening'
DESCRIPTION:Arbour Week is celebrated annually in the first week of September – acknowledging the beauty and importance of indigenous trees\, whilst raising awareness and actively greening over this period. This year\, the week will be observed from 31st August to 4th September. \nJoin KZN Museum’s Chief Education Officer for Outreach\, Marsha Kalika\, as we discuss the importance of Arbour Week within the context of greening\, companion planting and Spekboom. We will also look at an exciting planting technique and learn how to make seed bombs. \nRegister on Zoom: https://zoom.us/webinar/register/WN_NBkXAM_ATvCF6AG_aPehdw?fbclid=IwAR1BjXuKrJA7CqEGWmluKKSITWED57e8RlBDcck9xV03QINfelQdN0QXYHI \n  \n 
URL:https://www.scifest.org.za/event/webinar-indigenous-greening/
LOCATION:Zoom Meeting
ORGANIZER;CN="Scifest Africa":MAILTO:info@scifest.org.za
END:VEVENT
BEGIN:VEVENT
DTSTART;TZID=Africa/Johannesburg:20200811T170000
DTEND;TZID=Africa/Johannesburg:20200811T183000
DTSTAMP:20260425T183604
CREATED:20200809T225452Z
LAST-MODIFIED:20200809T225452Z
UID:4278-1597165200-1597170600@www.scifest.org.za
SUMMARY:Webinar: 'Surviving the storm - Science and science media in the time of COVID-19: roles\, challenges\, opportunities\, and looking ahead'
DESCRIPTION:The value and role of both science and science communication itself is well understood. However\, Covid-19 has brought about an unprecedented moment in science and an unprecedented moment in time in the public’s relationship with science. Covid-19 has seen scientists venture more prominently into the public eye while the public grappled with finding a deeper understanding of this virus in a minefield of misinformation. The pivotal role that science engagement and the science media play in South African society has never been clearer\, nor has it been more challenging. Covid-19 has also brought about a moment where scientists and science media practitioners can partner in new ways to communicate with the public. \nAs the pandemic continues\, countries have been pushed into taking stringent measures to prop up local economies. Severe budget cuts and the diversion of resources has become a reality for many and South Africa has not been spared. Budget cuts to the Department of Science and Innovation which funds most scientific research and science communication activities\, as well as the closure of media houses and the loss of science journalist posts may have far reaching impacts on science itself and on science engagement. \nJoin Prof Himla Soodyall (ASSAF)\, Mandi Small Horne (SASJA) and Dr Beverley Damonse (NRF) as they reflect on the role and value of science and science media in this time of Covid-19\, what is needed to ensure that we remain agile to respond in future and the different trajectories that need to be in place to ensure post pandemic survival.
URL:https://www.scifest.org.za/event/webinar-surviving-the-storm-science-and-science-media-in-the-time-of-covid-19-roles-challenges-opportunities-and-looking-ahead/
LOCATION:Zoom Meeting
ATTACH;FMTTYPE=image/jpeg:https://www.scifest.org.za/wp-content/uploads/2020/08/Scifest-webinar-6-1.jpg
ORGANIZER;CN="Scifest Africa":MAILTO:info@scifest.org.za
END:VEVENT
BEGIN:VEVENT
DTSTART;TZID=Africa/Johannesburg:20200721T170000
DTEND;TZID=Africa/Johannesburg:20200721T183000
DTSTAMP:20260425T183604
CREATED:20200720T141712Z
LAST-MODIFIED:20200720T141712Z
UID:4268-1595350800-1595356200@www.scifest.org.za
SUMMARY:Webinar: 'Space Science on Ice – the life of an Antarctic adventurer'
DESCRIPTION:As part of the South African National Antarctic Programme (SANAP)\, South Africa maintains a permanent research base in Antarctica for scientists to participate in various research programmes. The South African National Space Agency (SANSA) operates 80% of the instruments located at the South African Antarctic research base SANAE IV. These instruments monitor our near-earth space environment and provide vital data for space science research. SANSA engineers live at the base throughout the year in order to maintain and develop these systems\, while ensuring that meaningful data is transferred back to the Space Agency. \nThis discussion will take you on a journey of discovery as to what life is like at the South African Antarctic research base. Hear all about the exciting adventures\, traditions\, unique challenges\, incredible beauty that the SANSA Antarctic Engineers experience when they journey to the land of ice and snow\, making for some fascinating research that they will share with us. \nJoin Steve Sherman in conversation with Mpati Boleme (Antarctic Electronics Engineer)\, Jonathan Ward (SANSA Engineering Manager)\, Thomas Chauque (SANSA Instrumentation Technician) and Prof. Mike Kosch (SANSA Chief Scientist). \n** Something extra special to look forward to? A video message from Antarctic Engineers\, Pierre Retief and Vhulahani Manukha who are currently working at the Antarctic base! ** \nWatch the live stream on Scifest Africa’s page or register on Zoom here. \n 
URL:https://www.scifest.org.za/event/webinar-space-science-on-ice-the-life-of-an-antarctic-adventurer/
LOCATION:Zoom Meeting
ORGANIZER;CN="Scifest Africa":MAILTO:info@scifest.org.za
END:VEVENT
BEGIN:VEVENT
DTSTART;TZID=Africa/Johannesburg:20200526T160000
DTEND;TZID=Africa/Johannesburg:20200526T170000
DTSTAMP:20260425T183604
CREATED:20200523T222740Z
LAST-MODIFIED:20200523T222740Z
UID:4186-1590508800-1590512400@www.scifest.org.za
SUMMARY:Webinar: The Nature of African Innovations
DESCRIPTION:Join Prof Mike Bruton\, Scifest Advisory Committee Chair\, in conversation with Steve Sherman (Living Maths) at the first Scifest Africa webinar: ‘The Nature of African Innovations’ on Tuesday 26 May at 4pm – Register here \n“Africa is internationally recognised as the ‘Cradle of Humankind’ and it is widely acknowledged that many significant inventions were made in Africa in ancient times. However\, in the modern world\, Africans are given little credit for the significant contributions that they are making to innovation in many different fields\, including agriculture\, medicine\, astronomy and space science\, sustainable living\, architecture\, education\, transport\, commerce and fintech\, communications\, smartphone apps\, robotics\, alternative energy and sport\, as well as in art\, culture\, music and clothing design. The Fourth Industrial Revolution\, which I prefer to call the First Post-Industrial Revolution\, which is characterised by hyperconnectivity\, the democratisation of technological innovation\, robotics\, artificial intelligence and the development of a ‘cyborg superorganism’ that brings together the computing power of human brains\, computers and the Internet of Things for the first time\, provides opportunities for African people of different cultures\, generations and genders to participate fully in the new information economy and in the development of a new post-COVID-19 world order. Africans young and old are responding positively to this opportunity and are making amazing contributions to innovation in various fields.” – Professor Mike Bruton \n 
URL:https://www.scifest.org.za/event/webinar-the-nature-of-african-innovations/
LOCATION:Zoom Meeting
CATEGORIES:Scifest Events
ATTACH;FMTTYPE=image/png:https://www.scifest.org.za/wp-content/uploads/2020/05/Bruton-Mike-2.png
END:VEVENT
BEGIN:VEVENT
DTSTART;TZID=Africa/Johannesburg:20190924T080000
DTEND;TZID=Africa/Johannesburg:20190927T170000
DTSTAMP:20260425T183604
CREATED:20190902T101100Z
LAST-MODIFIED:20190902T101100Z
UID:4139-1569312000-1569603600@www.scifest.org.za
SUMMARY:Eskom Expo ISF 2019
DESCRIPTION:The Eskom Expo International Science Fair takes place from 24-27 September 2019 at the Birchwood Hotel & Conference Centre\, Boksburg\, Gauteng. \n#EskomExpoISF
URL:https://www.scifest.org.za/event/eskom-expo-isf-2019/
LOCATION:Birchwood Hotel & Conference Centre\, 14 View Point Road\, Bardene\, Boksburg\, Gauteng\, 1456\, South Africa
END:VEVENT
BEGIN:VEVENT
DTSTART;TZID=Africa/Johannesburg:20190803T080000
DTEND;TZID=Africa/Johannesburg:20190803T170000
DTSTAMP:20260425T183604
CREATED:20190717T112144Z
LAST-MODIFIED:20190730T101301Z
UID:4077-1564819200-1564851600@www.scifest.org.za
SUMMARY:Regional Final
DESCRIPTION:Eskom Expo For Young Scientists  \nGrahamstown Region \nRegional Final – Saturday 3 August 2019 at Rhodes University’s Great Hall\, Prince Alfred Street \n2019 Grahamstown Regional Final Sponsors: \n\nRhodes University\nCarara Agro Processing\nCES\nEskom\nNRF|SAIAB\nPick ‘n Pay\nWESSA\nABM Office National\nDupli-Print & Signs Un-ltd\nSpur Steak Ranches\n\nIn-Kind Sponsor: \n\nSPAR\n\nClick here: https://dev.scifest.org.za/wp-content/uploads/2019/07/2019-Eskom-Expo_Sponsors.pdf \n  \n  \n 
URL:https://www.scifest.org.za/event/regional-final/
CATEGORIES:Scifest Events
END:VEVENT
BEGIN:VEVENT
DTSTART;TZID=Africa/Johannesburg:20190724T100000
DTEND;TZID=Africa/Johannesburg:20190724T130000
DTSTAMP:20260425T183604
CREATED:20190717T104511Z
LAST-MODIFIED:20190717T104511Z
UID:4075-1563962400-1563973200@www.scifest.org.za
SUMMARY:District Expo
DESCRIPTION:Eskom Expo For Young Scientists \nGrahamstown Region \nDistrict Expo – Wednesday 24 July 2019 at Ekuphumeleni High School\, Whittlesea
URL:https://www.scifest.org.za/event/district-expo-5/
CATEGORIES:Scifest Events
END:VEVENT
BEGIN:VEVENT
DTSTART;TZID=Africa/Johannesburg:20190723T130000
DTEND;TZID=Africa/Johannesburg:20190723T170000
DTSTAMP:20260425T183604
CREATED:20190717T103009Z
LAST-MODIFIED:20190717T103009Z
UID:4073-1563886800-1563901200@www.scifest.org.za
SUMMARY:District Expo
DESCRIPTION:Eskom Expo For Young Scientists \nGrahamstown Region \nDistrict Expo – Tuesday 23 July 2019 at Nombulelo Senior Secondary School\, Makhanda (formerly Grahamstown)
URL:https://www.scifest.org.za/event/district-expo-4/
CATEGORIES:Scifest Events
END:VEVENT
BEGIN:VEVENT
DTSTART;TZID=Africa/Johannesburg:20190723T090000
DTEND;TZID=Africa/Johannesburg:20190723T120000
DTSTAMP:20260425T183604
CREATED:20190717T100103Z
LAST-MODIFIED:20190717T100103Z
UID:4069-1563872400-1563883200@www.scifest.org.za
SUMMARY:District Expo
DESCRIPTION:Eskom Expo For Young Scientists \nGrahamstown Region \nDistrict Expo – Tuesday 23 July 2019 in Thomas Pringle Hall at the 1820 Settlers National Monument\, Makhanda (formerly Grahamstown)
URL:https://www.scifest.org.za/event/district-expo-3/
CATEGORIES:Scifest Events
END:VEVENT
BEGIN:VEVENT
DTSTART;TZID=Africa/Johannesburg:20190719T110000
DTEND;TZID=Africa/Johannesburg:20190719T130000
DTSTAMP:20260425T183604
CREATED:20190717T091850Z
LAST-MODIFIED:20190717T091850Z
UID:4067-1563534000-1563541200@www.scifest.org.za
SUMMARY:District Expo
DESCRIPTION:Eskom Expo For Young Scientists \nGrahamstown Region \nDistrict Expo – Friday 19 July 2019 at Nathaniel Pamla High School\, Peddie
URL:https://www.scifest.org.za/event/district-expo-2/
CATEGORIES:Scifest Events
END:VEVENT
BEGIN:VEVENT
DTSTART;TZID=Africa/Johannesburg:20190718T110000
DTEND;TZID=Africa/Johannesburg:20190718T150000
DTSTAMP:20260425T183604
CREATED:20190717T085848Z
LAST-MODIFIED:20190717T085848Z
UID:4063-1563447600-1563462000@www.scifest.org.za
SUMMARY:District Expo
DESCRIPTION:Eskom Expo For Young Scientists \nGrahamstown Region \nDistrict Expo – Thursday 18 July 2019 at Nomzamo Senior Secondary School\, Port Alfred
URL:https://www.scifest.org.za/event/district-expo/
CATEGORIES:Scifest Events
END:VEVENT
BEGIN:VEVENT
DTSTART;TZID=Africa/Johannesburg:20190306T090000
DTEND;TZID=Africa/Johannesburg:20190306T113000
DTSTAMP:20260425T183604
CREATED:20190124T072228Z
LAST-MODIFIED:20190124T072430Z
UID:3934-1551862800-1551871800@www.scifest.org.za
SUMMARY:Official Opening
DESCRIPTION:Scifest Africa 2019 Official Opening
URL:https://www.scifest.org.za/event/official-opening/
END:VEVENT
BEGIN:VEVENT
DTSTART;VALUE=DATE:20190306
DTEND;VALUE=DATE:20190313
DTSTAMP:20260425T183604
CREATED:20180716T133142Z
LAST-MODIFIED:20190124T072730Z
UID:2596-1551830400-1552435199@www.scifest.org.za
SUMMARY:Scifest Africa 2019
DESCRIPTION:The 2019 festival will take place in Grahamstown\, Eastern Cape from 6-12 March. \nThe theme “Discover your element” celebrates the International Year of the Periodic Table of Chemical Elements as proclaimed by the United Nations. The theme also celebrates several anniversaries in the history of chemistry including the 150th anniversary of the periodic table’s creation by Dmitry Mendeleev in 1869\, 350 years since the discovery of phosphorus\, the categorisation of 33 elements in 1789 by Lavoisier’s\, and Döbereiner’s law of the triads in 1829. \nScifest Africa was established by the Grahamstown Foundation in 1996 to: \n\npromote the public awareness\,\nunderstanding and appreciation of science\, technology and innovation in South Africa.
URL:https://www.scifest.org.za/event/scifest-africa-2019/
LOCATION:1820 Settlers National Monument\, Fort Selwyn Drive\, Grahamstown\, Eastern Cape\, 6139\, South Africa
ATTACH;FMTTYPE=image/jpeg:https://www.scifest.org.za/wp-content/uploads/2016/03/scifest-icon.jpg
ORGANIZER;CN="Pumza Tshebe":MAILTO:manager@scifest.org.za
END:VEVENT
BEGIN:VEVENT
DTSTART;TZID=Africa/Johannesburg:20190223T080000
DTEND;TZID=Africa/Johannesburg:20190223T233000
DTSTAMP:20260425T183604
CREATED:20190215T075103Z
LAST-MODIFIED:20190215T075103Z
UID:3998-1550908800-1550964600@www.scifest.org.za
SUMMARY:Runway IMPACT
DESCRIPTION:Deadline for entries at 23h59
URL:https://www.scifest.org.za/event/runway-impact/
END:VEVENT
BEGIN:VEVENT
DTSTART;TZID=Africa/Johannesburg:20190208T120000
DTEND;TZID=Africa/Johannesburg:20190208T150000
DTSTAMP:20260425T183604
CREATED:20190124T062634Z
LAST-MODIFIED:20190124T062709Z
UID:3926-1549627200-1549638000@www.scifest.org.za
SUMMARY:Rhodes University Quiz: Round 1
DESCRIPTION:Question papers will be sent to all the participating schools. \nContact Scifest Africa at 0466031106 should you require more information
URL:https://www.scifest.org.za/event/rhodes-university-quiz-round-1/
END:VEVENT
BEGIN:VEVENT
DTSTART;VALUE=DATE:20190204
DTEND;VALUE=DATE:20190205
DTSTAMP:20260425T183604
CREATED:20190124T071434Z
LAST-MODIFIED:20190124T071434Z
UID:3928-1549238400-1549324799@www.scifest.org.za
SUMMARY:Ticket Office Opens
DESCRIPTION:Call the Ticket office on 086 000 2004 \nVisit www.tickethut.co.za/scifest or follow the link to the tickethut website on www.scifest.org.za
URL:https://www.scifest.org.za/event/ticket-office-opens/
END:VEVENT
BEGIN:VEVENT
DTSTART;TZID=Africa/Johannesburg:20190201T080000
DTEND;TZID=Africa/Johannesburg:20190201T170000
DTSTAMP:20260425T183604
CREATED:20190124T071730Z
LAST-MODIFIED:20190124T071730Z
UID:3930-1549008000-1549040400@www.scifest.org.za
SUMMARY:Rhodes University Quiz: Round 1 Application Close
DESCRIPTION:Closing date for applications to participate in the Rhodes University Quiz scheduled for 8 February @ 12h00 \nEmail applications to outreach@scifest.org.za or fax to 086 206 8707
URL:https://www.scifest.org.za/event/rhodes-university-quiz-round-1-application-close/
END:VEVENT
BEGIN:VEVENT
DTSTART;TZID=Africa/Johannesburg:20190128T080000
DTEND;TZID=Africa/Johannesburg:20190128T170000
DTSTAMP:20260425T183604
CREATED:20190124T071951Z
LAST-MODIFIED:20190124T071951Z
UID:3932-1548662400-1548694800@www.scifest.org.za
SUMMARY:Deadline: Contributor Hospitality Forms
DESCRIPTION:Submit 2019 Scifest Hospitality forms
URL:https://www.scifest.org.za/event/deadline-contributor-hospitality-forms/
END:VEVENT
BEGIN:VEVENT
DTSTART;TZID=Africa/Johannesburg:20190104T080000
DTEND;TZID=Africa/Johannesburg:20190104T170000
DTSTAMP:20260425T183604
CREATED:20181016T110702Z
LAST-MODIFIED:20181016T110702Z
UID:3869-1546588800-1546621200@www.scifest.org.za
SUMMARY:Scifest Africa Offices Re-open
DESCRIPTION:
URL:https://www.scifest.org.za/event/scifest-africa-offices-re-open/
END:VEVENT
BEGIN:VEVENT
DTSTART;TZID=Africa/Johannesburg:20181214T080000
DTEND;TZID=Africa/Johannesburg:20181214T130000
DTSTAMP:20260425T183604
CREATED:20181016T110601Z
LAST-MODIFIED:20181016T110601Z
UID:3867-1544774400-1544792400@www.scifest.org.za
SUMMARY:Scifest Africa Offices Close
DESCRIPTION:
URL:https://www.scifest.org.za/event/scifest-africa-offices-close/
END:VEVENT
BEGIN:VEVENT
DTSTART;TZID=Africa/Johannesburg:20181018T090000
DTEND;TZID=Africa/Johannesburg:20181018T140000
DTSTAMP:20260425T183604
CREATED:20181016T110004Z
LAST-MODIFIED:20181016T110004Z
UID:3862-1539853200-1539871200@www.scifest.org.za
SUMMARY:BASF Community Outreach Day
DESCRIPTION:Fort Beaufort \n 
URL:https://www.scifest.org.za/event/basf-community-outreach-day/
END:VEVENT
BEGIN:VEVENT
DTSTART;VALUE=DATE:20181002
DTEND;VALUE=DATE:20181006
DTSTAMP:20260425T183604
CREATED:20181016T104839Z
LAST-MODIFIED:20181016T105831Z
UID:3858-1538438400-1538783999@www.scifest.org.za
SUMMARY:Eskom Expo ISF
DESCRIPTION:Birchwood Hotel and Conference Centre \nBoksburg\, Gauteng
URL:https://www.scifest.org.za/event/eskom-expo-isf/
END:VEVENT
BEGIN:VEVENT
DTSTART;TZID=Africa/Johannesburg:20181001T080000
DTEND;TZID=Africa/Johannesburg:20181003T100000
DTSTAMP:20260425T183604
CREATED:20181016T110303Z
LAST-MODIFIED:20181016T110303Z
UID:3864-1538380800-1538560800@www.scifest.org.za
SUMMARY:SAASTA Astronomy Quiz
DESCRIPTION:Ditsong Museum \nPretoria
URL:https://www.scifest.org.za/event/saasta-astronomy-quiz/
END:VEVENT
BEGIN:VEVENT
DTSTART;VALUE=DATE:20180820
DTEND;VALUE=DATE:20180826
DTSTAMP:20260425T183604
CREATED:20180716T133506Z
LAST-MODIFIED:20180716T134532Z
UID:2598-1534723200-1535241599@www.scifest.org.za
SUMMARY:The SCIFEST-BASF Tour
DESCRIPTION:Through the continued support of BASF Holdings South Africa\, Scifest Africa is set to embark on a journey that aims to interact with as many learners\, teachers and members of the public as possible. \nThe SCIFEST-BASF road tour\, scheduled to take place on 20-25 May 2018\,  is one of many tours that will see the promotion of public awareness\, understanding and appreciation of STEMI through innovative events with entertainment value and scientific integrity journey through the Eastern Cape. \nSchools in the Nelson Mandela Metropolitan area and its surroundings can look forward to a tour\, which promises hands-on educational workshops\, fun and interactive science shows and deep and meaningful community engagement through the Scifest Africa community outreach initiatives. \nMake sure you don’t miss out on the next opportunity to engage with the Scifest Africa team and catch the SCIFEST-BASF Road Tour 2018 near you! \nFor more information contact the Scifest Africa offices at outreach[at]scifest.org.za
URL:https://www.scifest.org.za/event/the-scifest-basf-tour/
CATEGORIES:Scifest Events
ATTACH;FMTTYPE=image/jpeg:https://www.scifest.org.za/wp-content/uploads/2016/03/SCIFEST-BASF-Tour.jpg
END:VEVENT
BEGIN:VEVENT
DTSTART;VALUE=DATE:20180628
DTEND;VALUE=DATE:20180709
DTSTAMP:20260425T183604
CREATED:20180402T121531Z
LAST-MODIFIED:20180402T121537Z
UID:2251-1530144000-1531094399@www.scifest.org.za
SUMMARY:National Arts Festival 2018
DESCRIPTION:Tickets to sought-after shows on the Main programme at this year’s National Arts Festival will be on sale before bookings officially open on 7 May. \nFrom 2 April\, we will be giving you a taste of some of what will be on offer in Grahamstown between 28 June and 8 July by releasing tickets to some must-see shows – music\, dance and theatre. Stay tuned to our social media platforms for details. \nThe full programme will be online at the end of April\, with a limited number of printed programmes available from 21 May at selected theatres as well as some branches of Standard Bank and Exclusive Books around the country. \nAll ticket bookings can be done on this website\, or through the Festival Box Office on 0860 002 004. Tickets range from R20 to R150\, with discounts for block bookings (more than 10 tickets) on selected shows. Concession tickets are available for pensioners\, students and learners on selected shows. You can pay by credit card\, EFT or SnapScan.
URL:https://www.scifest.org.za/event/national-arts-festival-2018/
LOCATION:Grahamstown\, Grahamstown\, Eastern Cape\, 6140\, South Africa
CATEGORIES:Monument
ATTACH;FMTTYPE=image/jpeg:https://www.scifest.org.za/wp-content/uploads/2018/04/national-arts-festival.jpg
ORGANIZER;CN="National Arts Festival":MAILTO:boxoffice@nationalartsfestival.co.za
END:VEVENT
BEGIN:VEVENT
DTSTART;VALUE=DATE:20180307
DTEND;VALUE=DATE:20180314
DTSTAMP:20260425T183604
CREATED:20180316T104808Z
LAST-MODIFIED:20180329T061132Z
UID:615-1520380800-1520985599@www.scifest.org.za
SUMMARY:Scifest Africa 2018
DESCRIPTION:Scifest Africa turns 22! \nScifest Africa was established by the Grahamstown Foundation in 1996 to: \n\npromote the public awareness\,\nunderstanding and appreciation of science\, technology and innovation in South Africa.\n\nThe theme for 2018 is Innovation 4.0\, with reference to the Fourth Industrial Revolution\, which attributes technology advancement and transformation. \nWe encourage our participating organisations to think \n\nartificial intelligence\n3D printing\nnanotechnology\ndigital\nquantum computing\nand the unlimited possibilities of emerging technology breakthroughs\n\nThe full programme : Scifest Africa 2018
URL:https://www.scifest.org.za/event/scifest-africa-2018/
LOCATION:1820 Settlers National Monument\, Fort Selwyn Drive\, Grahamstown\, Eastern Cape\, 6139\, South Africa
CATEGORIES:Monument
ATTACH;FMTTYPE=image/jpeg:https://www.scifest.org.za/wp-content/uploads/2016/03/scifest-icon.jpg
ORGANIZER;CN="Pumza Tshebe":MAILTO:manager@scifest.org.za
END:VEVENT
END:VCALENDAR