BEGIN:VCALENDAR
VERSION:2.0
PRODID:-//Scifest Africa - ECPv6.15.11//NONSGML v1.0//EN
CALSCALE:GREGORIAN
METHOD:PUBLISH
X-ORIGINAL-URL:https://www.scifest.org.za
X-WR-CALDESC:Events for Scifest Africa
REFRESH-INTERVAL;VALUE=DURATION:PT1H
X-Robots-Tag:noindex
X-PUBLISHED-TTL:PT1H
BEGIN:VTIMEZONE
TZID:Africa/Johannesburg
BEGIN:STANDARD
TZOFFSETFROM:+0200
TZOFFSETTO:+0200
TZNAME:SAST
DTSTART:20170101T000000
END:STANDARD
END:VTIMEZONE
BEGIN:VTIMEZONE
TZID:Europe/Helsinki
BEGIN:DAYLIGHT
TZOFFSETFROM:+0200
TZOFFSETTO:+0300
TZNAME:EEST
DTSTART:20170326T010000
END:DAYLIGHT
BEGIN:STANDARD
TZOFFSETFROM:+0300
TZOFFSETTO:+0200
TZNAME:EET
DTSTART:20171029T010000
END:STANDARD
BEGIN:DAYLIGHT
TZOFFSETFROM:+0200
TZOFFSETTO:+0300
TZNAME:EEST
DTSTART:20180325T010000
END:DAYLIGHT
BEGIN:STANDARD
TZOFFSETFROM:+0300
TZOFFSETTO:+0200
TZNAME:EET
DTSTART:20181028T010000
END:STANDARD
BEGIN:DAYLIGHT
TZOFFSETFROM:+0200
TZOFFSETTO:+0300
TZNAME:EEST
DTSTART:20190331T010000
END:DAYLIGHT
BEGIN:STANDARD
TZOFFSETFROM:+0300
TZOFFSETTO:+0200
TZNAME:EET
DTSTART:20191027T010000
END:STANDARD
END:VTIMEZONE
BEGIN:VTIMEZONE
TZID:UTC
BEGIN:STANDARD
TZOFFSETFROM:+0000
TZOFFSETTO:+0000
TZNAME:UTC
DTSTART:20170101T000000
END:STANDARD
END:VTIMEZONE
BEGIN:VEVENT
DTSTART;TZID=Africa/Johannesburg:20190128T080000
DTEND;TZID=Africa/Johannesburg:20190128T170000
DTSTAMP:20260425T215304
CREATED:20190124T071951Z
LAST-MODIFIED:20190124T071951Z
UID:3932-1548662400-1548694800@www.scifest.org.za
SUMMARY:Deadline: Contributor Hospitality Forms
DESCRIPTION:Submit 2019 Scifest Hospitality forms
URL:https://www.scifest.org.za/event/deadline-contributor-hospitality-forms/
END:VEVENT
BEGIN:VEVENT
DTSTART;TZID=Africa/Johannesburg:20190104T080000
DTEND;TZID=Africa/Johannesburg:20190104T170000
DTSTAMP:20260425T215304
CREATED:20181016T110702Z
LAST-MODIFIED:20181016T110702Z
UID:3869-1546588800-1546621200@www.scifest.org.za
SUMMARY:Scifest Africa Offices Re-open
DESCRIPTION:
URL:https://www.scifest.org.za/event/scifest-africa-offices-re-open/
END:VEVENT
BEGIN:VEVENT
DTSTART;TZID=Africa/Johannesburg:20181214T080000
DTEND;TZID=Africa/Johannesburg:20181214T130000
DTSTAMP:20260425T215304
CREATED:20181016T110601Z
LAST-MODIFIED:20181016T110601Z
UID:3867-1544774400-1544792400@www.scifest.org.za
SUMMARY:Scifest Africa Offices Close
DESCRIPTION:
URL:https://www.scifest.org.za/event/scifest-africa-offices-close/
END:VEVENT
BEGIN:VEVENT
DTSTART;TZID=Africa/Johannesburg:20181018T090000
DTEND;TZID=Africa/Johannesburg:20181018T140000
DTSTAMP:20260425T215304
CREATED:20181016T110004Z
LAST-MODIFIED:20181016T110004Z
UID:3862-1539853200-1539871200@www.scifest.org.za
SUMMARY:BASF Community Outreach Day
DESCRIPTION:Fort Beaufort \n 
URL:https://www.scifest.org.za/event/basf-community-outreach-day/
END:VEVENT
BEGIN:VEVENT
DTSTART;VALUE=DATE:20181002
DTEND;VALUE=DATE:20181006
DTSTAMP:20260425T215304
CREATED:20181016T104839Z
LAST-MODIFIED:20181016T105831Z
UID:3858-1538438400-1538783999@www.scifest.org.za
SUMMARY:Eskom Expo ISF
DESCRIPTION:Birchwood Hotel and Conference Centre \nBoksburg\, Gauteng
URL:https://www.scifest.org.za/event/eskom-expo-isf/
END:VEVENT
BEGIN:VEVENT
DTSTART;TZID=Africa/Johannesburg:20181001T080000
DTEND;TZID=Africa/Johannesburg:20181003T100000
DTSTAMP:20260425T215304
CREATED:20181016T110303Z
LAST-MODIFIED:20181016T110303Z
UID:3864-1538380800-1538560800@www.scifest.org.za
SUMMARY:SAASTA Astronomy Quiz
DESCRIPTION:Ditsong Museum \nPretoria
URL:https://www.scifest.org.za/event/saasta-astronomy-quiz/
END:VEVENT
BEGIN:VEVENT
DTSTART;VALUE=DATE:20180820
DTEND;VALUE=DATE:20180826
DTSTAMP:20260425T215304
CREATED:20180716T133506Z
LAST-MODIFIED:20180716T134532Z
UID:2598-1534723200-1535241599@www.scifest.org.za
SUMMARY:The SCIFEST-BASF Tour
DESCRIPTION:Through the continued support of BASF Holdings South Africa\, Scifest Africa is set to embark on a journey that aims to interact with as many learners\, teachers and members of the public as possible. \nThe SCIFEST-BASF road tour\, scheduled to take place on 20-25 May 2018\,  is one of many tours that will see the promotion of public awareness\, understanding and appreciation of STEMI through innovative events with entertainment value and scientific integrity journey through the Eastern Cape. \nSchools in the Nelson Mandela Metropolitan area and its surroundings can look forward to a tour\, which promises hands-on educational workshops\, fun and interactive science shows and deep and meaningful community engagement through the Scifest Africa community outreach initiatives. \nMake sure you don’t miss out on the next opportunity to engage with the Scifest Africa team and catch the SCIFEST-BASF Road Tour 2018 near you! \nFor more information contact the Scifest Africa offices at outreach[at]scifest.org.za
URL:https://www.scifest.org.za/event/the-scifest-basf-tour/
CATEGORIES:Scifest Events
ATTACH;FMTTYPE=image/jpeg:https://www.scifest.org.za/wp-content/uploads/2016/03/SCIFEST-BASF-Tour.jpg
END:VEVENT
BEGIN:VEVENT
DTSTART;VALUE=DATE:20180628
DTEND;VALUE=DATE:20180709
DTSTAMP:20260425T215304
CREATED:20180402T121531Z
LAST-MODIFIED:20180402T121537Z
UID:2251-1530144000-1531094399@www.scifest.org.za
SUMMARY:National Arts Festival 2018
DESCRIPTION:Tickets to sought-after shows on the Main programme at this year’s National Arts Festival will be on sale before bookings officially open on 7 May. \nFrom 2 April\, we will be giving you a taste of some of what will be on offer in Grahamstown between 28 June and 8 July by releasing tickets to some must-see shows – music\, dance and theatre. Stay tuned to our social media platforms for details. \nThe full programme will be online at the end of April\, with a limited number of printed programmes available from 21 May at selected theatres as well as some branches of Standard Bank and Exclusive Books around the country. \nAll ticket bookings can be done on this website\, or through the Festival Box Office on 0860 002 004. Tickets range from R20 to R150\, with discounts for block bookings (more than 10 tickets) on selected shows. Concession tickets are available for pensioners\, students and learners on selected shows. You can pay by credit card\, EFT or SnapScan.
URL:https://www.scifest.org.za/event/national-arts-festival-2018/
LOCATION:Grahamstown\, Grahamstown\, Eastern Cape\, 6140\, South Africa
CATEGORIES:Monument
ATTACH;FMTTYPE=image/jpeg:https://www.scifest.org.za/wp-content/uploads/2018/04/national-arts-festival.jpg
ORGANIZER;CN="National Arts Festival":MAILTO:boxoffice@nationalartsfestival.co.za
END:VEVENT
BEGIN:VEVENT
DTSTART;VALUE=DATE:20180307
DTEND;VALUE=DATE:20180314
DTSTAMP:20260425T215304
CREATED:20180316T104808Z
LAST-MODIFIED:20180329T061132Z
UID:615-1520380800-1520985599@www.scifest.org.za
SUMMARY:Scifest Africa 2018
DESCRIPTION:Scifest Africa turns 22! \nScifest Africa was established by the Grahamstown Foundation in 1996 to: \n\npromote the public awareness\,\nunderstanding and appreciation of science\, technology and innovation in South Africa.\n\nThe theme for 2018 is Innovation 4.0\, with reference to the Fourth Industrial Revolution\, which attributes technology advancement and transformation. \nWe encourage our participating organisations to think \n\nartificial intelligence\n3D printing\nnanotechnology\ndigital\nquantum computing\nand the unlimited possibilities of emerging technology breakthroughs\n\nThe full programme : Scifest Africa 2018
URL:https://www.scifest.org.za/event/scifest-africa-2018/
LOCATION:1820 Settlers National Monument\, Fort Selwyn Drive\, Grahamstown\, Eastern Cape\, 6139\, South Africa
CATEGORIES:Monument
ATTACH;FMTTYPE=image/jpeg:https://www.scifest.org.za/wp-content/uploads/2016/03/scifest-icon.jpg
ORGANIZER;CN="Pumza Tshebe":MAILTO:manager@scifest.org.za
END:VEVENT
END:VCALENDAR